Package: recoup Version: 1.32.0 Command: /home/biocbuild/R/R-beta-2024-04-15_r86425/bin/R CMD build --keep-empty-dirs --no-resave-data recoup StartedAt: 2024-05-09 02:53:59 -0000 (Thu, 09 May 2024) EndedAt: 2024-05-09 02:55:16 -0000 (Thu, 09 May 2024) EllapsedTime: 76.1 seconds RetCode: 0 Status: OK PackageFile: recoup_1.32.0.tar.gz PackageFileSize: 2.318 MiB