Package: recoup Version: 1.32.0 Command: /Library/Frameworks/R.framework/Resources/bin/R CMD INSTALL recoup StartedAt: 2024-06-09 16:09:39 -0400 (Sun, 09 Jun 2024) EndedAt: 2024-06-09 16:10:44 -0400 (Sun, 09 Jun 2024) EllapsedTime: 64.8 seconds RetCode: 0 Status: OK