Package: recountmethylation Version: 1.14.0 Command: chmod a+r recountmethylation -R && E:\biocbuild\bbs-3.19-bioc\R\bin\R.exe CMD build --keep-empty-dirs --no-resave-data recountmethylation StartedAt: 2024-10-16 21:26:37 -0400 (Wed, 16 Oct 2024) EndedAt: 2024-10-16 21:29:42 -0400 (Wed, 16 Oct 2024) EllapsedTime: 184.4 seconds RetCode: 0 Status: OK PackageFile: recountmethylation_1.14.0.tar.gz PackageFileSize: 4.69 MiB