Package: recount3 Version: 1.14.0 Command: E:\biocbuild\bbs-3.19-bioc\R\bin\R.exe CMD check --no-multiarch --install=check:recount3.install-out.txt --library=E:\biocbuild\bbs-3.19-bioc\R\library --no-vignettes --timings recount3_1.14.0.tar.gz StartedAt: 2024-10-17 04:54:25 -0400 (Thu, 17 Oct 2024) EndedAt: 2024-10-17 05:04:26 -0400 (Thu, 17 Oct 2024) EllapsedTime: 601.6 seconds RetCode: 0 Status: OK CheckDir: recount3.Rcheck Warnings: 0