Package: recount3 Version: 1.14.0 Command: chmod a+r recount3 -R && E:\biocbuild\bbs-3.19-bioc\R\bin\R.exe CMD build --keep-empty-dirs --no-resave-data recount3 StartedAt: 2024-10-16 21:26:36 -0400 (Wed, 16 Oct 2024) EndedAt: 2024-10-16 21:29:34 -0400 (Wed, 16 Oct 2024) EllapsedTime: 177.5 seconds RetCode: 0 Status: OK PackageFile: recount3_1.14.0.tar.gz PackageFileSize: 563.2 KiB