Package: recount3 Version: 1.14.0 Command: rm -rf recount3.buildbin-libdir && mkdir recount3.buildbin-libdir && F:\biocbuild\bbs-3.19-bioc\R\bin\R.exe CMD INSTALL --build --library=recount3.buildbin-libdir recount3_1.14.0.tar.gz StartedAt: 2024-06-27 08:45:46 -0400 (Thu, 27 Jun 2024) EndedAt: 2024-06-27 08:46:31 -0400 (Thu, 27 Jun 2024) EllapsedTime: 44.8 seconds RetCode: 0 Status: OK PackageFile: recount3_1.14.0.zip PackageFileSize: 647.9 KiB