Package: recount3 Version: 1.14.0 Command: /home/biocbuild/bbs-3.19-bioc/R/bin/R CMD INSTALL recount3 StartedAt: 2024-10-16 16:03:54 -0400 (Wed, 16 Oct 2024) EndedAt: 2024-10-16 16:04:26 -0400 (Wed, 16 Oct 2024) EllapsedTime: 32.5 seconds RetCode: 0 Status: OK