Package: recount3 Version: 1.14.0 Command: rm -rf recount3.buildbin-libdir && mkdir recount3.buildbin-libdir && /Users/biocbuild/BBS/utils/build-universal.sh recount3_1.14.0.tar.gz /Library/Frameworks/R.framework/Resources/bin/R recount3.buildbin-libdir StartedAt: 2024-10-17 16:57:27 -0400 (Thu, 17 Oct 2024) EndedAt: 2024-10-17 16:58:53 -0400 (Thu, 17 Oct 2024) EllapsedTime: 85.3 seconds RetCode: 0 Status: OK PackageFile: recount3_1.14.0.tgz PackageFileSize: 634.6 KiB