Package: recount Version: 1.30.2 Command: /home/biocbuild/bbs-3.19-bioc/R/bin/R CMD INSTALL recount StartedAt: 2024-10-16 16:20:19 -0400 (Wed, 16 Oct 2024) EndedAt: 2024-10-16 16:21:29 -0400 (Wed, 16 Oct 2024) EllapsedTime: 70.3 seconds RetCode: 0 Status: OK