Package: recount Version: 1.30.2 Command: /Library/Frameworks/R.framework/Resources/bin/R CMD INSTALL recount StartedAt: 2024-10-16 16:02:20 -0400 (Wed, 16 Oct 2024) EndedAt: 2024-10-16 16:04:48 -0400 (Wed, 16 Oct 2024) EllapsedTime: 147.9 seconds RetCode: 0 Status: OK