Package: recount Version: 1.30.2 Command: /Library/Frameworks/R.framework/Resources/bin/R CMD check --install=check:recount.install-out.txt --library=/Library/Frameworks/R.framework/Resources/library --no-vignettes --timings recount_1.30.2.tar.gz StartedAt: 2024-10-17 11:37:18 -0400 (Thu, 17 Oct 2024) EndedAt: 2024-10-17 11:53:17 -0400 (Thu, 17 Oct 2024) EllapsedTime: 959.3 seconds RetCode: 0 Status: OK CheckDir: recount.Rcheck Warnings: 0