Package: recount Version: 1.30.2 Command: /Library/Frameworks/R.framework/Resources/bin/R CMD build --keep-empty-dirs --no-resave-data recount StartedAt: 2024-10-16 22:28:20 -0400 (Wed, 16 Oct 2024) EndedAt: 2024-10-16 22:37:31 -0400 (Wed, 16 Oct 2024) EllapsedTime: 551.9 seconds RetCode: 0 Status: OK PackageFile: recount_1.30.2.tar.gz PackageFileSize: 7.491 MiB