Package: recount Version: 1.30.2 Command: /Library/Frameworks/R.framework/Resources/bin/R CMD build --keep-empty-dirs --no-resave-data recount StartedAt: 2024-06-09 17:52:33 -0400 (Sun, 09 Jun 2024) EndedAt: 2024-06-09 18:00:26 -0400 (Sun, 09 Jun 2024) EllapsedTime: 473.3 seconds RetCode: 0 Status: OK PackageFile: recount_1.30.2.tar.gz PackageFileSize: 7.49 MiB