Package: recount Version: 1.30.2 Command: rm -rf recount.buildbin-libdir && mkdir recount.buildbin-libdir && /Users/biocbuild/BBS/utils/build-universal.sh recount_1.30.2.tar.gz /Library/Frameworks/R.framework/Resources/bin/R recount.buildbin-libdir StartedAt: 2024-06-10 00:34:39 -0400 (Mon, 10 Jun 2024) EndedAt: 2024-06-10 00:36:16 -0400 (Mon, 10 Jun 2024) EllapsedTime: 96.6 seconds RetCode: 0 Status: OK PackageFile: recount_1.30.2.tgz PackageFileSize: 7.85 MiB