Package: recount Version: 1.30.2 Command: /Library/Frameworks/R.framework/Resources/bin/R CMD check --install=check:recount.install-out.txt --library=/Library/Frameworks/R.framework/Resources/library --no-vignettes --timings recount_1.30.2.tar.gz StartedAt: 2024-06-11 02:37:10 -0400 (Tue, 11 Jun 2024) EndedAt: 2024-06-11 02:49:32 -0400 (Tue, 11 Jun 2024) EllapsedTime: 742.2 seconds RetCode: 1 Status: ERROR CheckDir: recount.Rcheck Warnings: NA