Package: recount Version: 1.30.2 Command: /Library/Frameworks/R.framework/Resources/bin/R CMD INSTALL recount StartedAt: 2024-10-16 17:19:51 -0400 (Wed, 16 Oct 2024) EndedAt: 2024-10-16 17:21:28 -0400 (Wed, 16 Oct 2024) EllapsedTime: 97.2 seconds RetCode: 0 Status: OK