Package: recount Version: 1.30.2 Command: /Library/Frameworks/R.framework/Resources/bin/R CMD check --install=check:recount.install-out.txt --library=/Library/Frameworks/R.framework/Resources/library --no-vignettes --timings recount_1.30.2.tar.gz StartedAt: 2024-10-15 08:38:03 -0400 (Tue, 15 Oct 2024) EndedAt: 2024-10-15 08:47:39 -0400 (Tue, 15 Oct 2024) EllapsedTime: 576.5 seconds RetCode: 1 Status: ERROR CheckDir: recount.Rcheck Warnings: NA