Package: reconsi Version: 1.16.0 Command: rm -rf reconsi.buildbin-libdir && mkdir reconsi.buildbin-libdir && E:\biocbuild\bbs-3.19-bioc\R\bin\R.exe CMD INSTALL --build --library=reconsi.buildbin-libdir reconsi_1.16.0.tar.gz StartedAt: 2024-10-17 08:27:27 -0400 (Thu, 17 Oct 2024) EndedAt: 2024-10-17 08:27:58 -0400 (Thu, 17 Oct 2024) EllapsedTime: 31.0 seconds RetCode: 0 Status: OK PackageFile: reconsi_1.16.0.zip PackageFileSize: 165.9 KiB