Package: reconsi Version: 1.16.0 Command: chmod a+r reconsi -R && F:\biocbuild\bbs-3.19-bioc\R\bin\R.exe CMD build --keep-empty-dirs --no-resave-data reconsi StartedAt: 2024-06-26 21:19:08 -0400 (Wed, 26 Jun 2024) EndedAt: 2024-06-26 21:21:05 -0400 (Wed, 26 Jun 2024) EllapsedTime: 116.9 seconds RetCode: 0 Status: OK PackageFile: reconsi_1.16.0.tar.gz PackageFileSize: 95.33 KiB