Package: reconsi Version: 1.16.0 Command: rm -rf reconsi.buildbin-libdir && mkdir reconsi.buildbin-libdir && F:\biocbuild\bbs-3.19-bioc\R\bin\R.exe CMD INSTALL --build --library=reconsi.buildbin-libdir reconsi_1.16.0.tar.gz StartedAt: 2024-06-27 08:45:42 -0400 (Thu, 27 Jun 2024) EndedAt: 2024-06-27 08:46:27 -0400 (Thu, 27 Jun 2024) EllapsedTime: 45.0 seconds RetCode: 0 Status: OK PackageFile: reconsi_1.16.0.zip PackageFileSize: 165.2 KiB