Package: reconsi Version: 1.16.0 Command: /home/biocbuild/bbs-3.19-bioc/R/bin/R CMD build --keep-empty-dirs --no-resave-data reconsi StartedAt: 2024-10-16 20:22:06 -0400 (Wed, 16 Oct 2024) EndedAt: 2024-10-16 20:23:26 -0400 (Wed, 16 Oct 2024) EllapsedTime: 80.2 seconds RetCode: 0 Status: OK PackageFile: reconsi_1.16.0.tar.gz PackageFileSize: 118.6 KiB