Package: reconsi Version: 1.16.0 Command: /Library/Frameworks/R.framework/Resources/bin/R CMD build --keep-empty-dirs --no-resave-data reconsi StartedAt: 2024-06-10 03:14:50 -0400 (Mon, 10 Jun 2024) EndedAt: 2024-06-10 03:16:42 -0400 (Mon, 10 Jun 2024) EllapsedTime: 111.5 seconds RetCode: 0 Status: OK PackageFile: reconsi_1.16.0.tar.gz PackageFileSize: 140.8 KiB