Package: receptLoss Version: 1.16.0 Command: /home/biocbuild/bbs-3.19-bioc/R/bin/R CMD INSTALL receptLoss StartedAt: 2024-10-16 15:55:39 -0400 (Wed, 16 Oct 2024) EndedAt: 2024-10-16 15:56:01 -0400 (Wed, 16 Oct 2024) EllapsedTime: 21.5 seconds RetCode: 0 Status: OK