Package: receptLoss Version: 1.16.0 Command: /Library/Frameworks/R.framework/Resources/bin/R CMD build --keep-empty-dirs --no-resave-data receptLoss StartedAt: 2024-10-16 22:28:17 -0400 (Wed, 16 Oct 2024) EndedAt: 2024-10-16 22:29:32 -0400 (Wed, 16 Oct 2024) EllapsedTime: 74.8 seconds RetCode: 0 Status: OK PackageFile: receptLoss_1.16.0.tar.gz PackageFileSize: 639.4 KiB