Package: receptLoss Version: 1.16.0 Command: /Library/Frameworks/R.framework/Resources/bin/R CMD INSTALL receptLoss StartedAt: 2024-10-16 16:01:44 -0400 (Wed, 16 Oct 2024) EndedAt: 2024-10-16 16:02:09 -0400 (Wed, 16 Oct 2024) EllapsedTime: 25.3 seconds RetCode: 0 Status: OK