Package: receptLoss Version: 1.16.0 Command: rm -rf receptLoss.buildbin-libdir && mkdir receptLoss.buildbin-libdir && /Users/biocbuild/BBS/utils/build-universal.sh receptLoss_1.16.0.tar.gz /Library/Frameworks/R.framework/Resources/bin/R receptLoss.buildbin-libdir StartedAt: 2024-10-18 20:11:41 -0400 (Fri, 18 Oct 2024) EndedAt: 2024-10-18 20:12:12 -0400 (Fri, 18 Oct 2024) EllapsedTime: 31.7 seconds RetCode: 0 Status: OK PackageFile: receptLoss_1.16.0.tgz PackageFileSize: 386.6 KiB