Package: rcellminer Version: 2.26.0 Command: chmod a+r rcellminer -R && E:\biocbuild\bbs-3.19-bioc\R\bin\R.exe CMD build --keep-empty-dirs --no-resave-data rcellminer StartedAt: 2024-10-16 21:24:36 -0400 (Wed, 16 Oct 2024) EndedAt: 2024-10-16 21:27:26 -0400 (Wed, 16 Oct 2024) EllapsedTime: 169.8 seconds RetCode: 0 Status: OK PackageFile: rcellminer_2.26.0.tar.gz PackageFileSize: 706.2 KiB