Package: rcellminer Version: 2.26.0 Command: /home/biocbuild/bbs-3.19-bioc/R/bin/R CMD INSTALL rcellminer StartedAt: 2024-10-16 16:18:55 -0400 (Wed, 16 Oct 2024) EndedAt: 2024-10-16 16:19:01 -0400 (Wed, 16 Oct 2024) EllapsedTime: 6.4 seconds RetCode: 0 Status: OK