Package: rcellminer Version: 2.26.0 Command: /Library/Frameworks/R.framework/Resources/bin/R CMD check --install=check:rcellminer.install-out.txt --library=/Library/Frameworks/R.framework/Resources/library --no-vignettes --timings rcellminer_2.26.0.tar.gz StartedAt: 2024-06-09 22:29:28 -0400 (Sun, 09 Jun 2024) EndedAt: 2024-06-09 22:31:37 -0400 (Sun, 09 Jun 2024) EllapsedTime: 128.2 seconds RetCode: 0 Status: WARNINGS CheckDir: rcellminer.Rcheck Warnings: 1