Package: rcellminer Version: 2.26.0 Command: rm -rf rcellminer.buildbin-libdir && mkdir rcellminer.buildbin-libdir && /Users/biocbuild/BBS/utils/build-universal.sh rcellminer_2.26.0.tar.gz /Library/Frameworks/R.framework/Resources/bin/R rcellminer.buildbin-libdir StartedAt: 2024-06-11 12:43:00 -0400 (Tue, 11 Jun 2024) EndedAt: 2024-06-11 12:43:18 -0400 (Tue, 11 Jun 2024) EllapsedTime: 17.8 seconds RetCode: 0 Status: OK PackageFile: rcellminer_2.26.0.tgz PackageFileSize: 2.904 MiB