Package: rcellminer Version: 2.26.0 Command: rm -rf rcellminer.buildbin-libdir && mkdir rcellminer.buildbin-libdir && /Users/biocbuild/BBS/utils/build-universal.sh rcellminer_2.26.0.tar.gz /Library/Frameworks/R.framework/Resources/bin/R rcellminer.buildbin-libdir StartedAt: 2024-10-18 20:09:41 -0400 (Fri, 18 Oct 2024) EndedAt: 2024-10-18 20:09:54 -0400 (Fri, 18 Oct 2024) EllapsedTime: 12.6 seconds RetCode: 0 Status: OK PackageFile: rcellminer_2.26.0.tgz PackageFileSize: 2.901 MiB