Package: rbsurv Version: 2.62.0 Command: /home/biocbuild/R/R-beta-2024-04-15_r86425/bin/R CMD build --keep-empty-dirs --no-resave-data rbsurv StartedAt: 2024-05-09 02:50:16 -0000 (Thu, 09 May 2024) EndedAt: 2024-05-09 02:50:50 -0000 (Thu, 09 May 2024) EllapsedTime: 34.0 seconds RetCode: 0 Status: OK PackageFile: rbsurv_2.62.0.tar.gz PackageFileSize: 352.3 KiB