Package: rawrr Version: 1.12.0 Command: chmod a+r rawrr -R && E:\biocbuild\bbs-3.19-bioc\R\bin\R.exe CMD build --keep-empty-dirs --no-resave-data rawrr StartedAt: 2024-10-16 21:22:41 -0400 (Wed, 16 Oct 2024) EndedAt: 2024-10-16 21:24:18 -0400 (Wed, 16 Oct 2024) EllapsedTime: 97.4 seconds RetCode: 0 Status: OK PackageFile: rawrr_1.12.0.tar.gz PackageFileSize: 1.378 MiB