Package: rawrr Version: 1.12.0 Command: /Library/Frameworks/R.framework/Resources/bin/R CMD INSTALL rawrr StartedAt: 2024-06-09 15:03:55 -0400 (Sun, 09 Jun 2024) EndedAt: 2024-06-09 15:04:13 -0400 (Sun, 09 Jun 2024) EllapsedTime: 18.0 seconds RetCode: 0 Status: OK