Package: rawrr Version: 1.12.0 Command: /Library/Frameworks/R.framework/Resources/bin/R CMD build --keep-empty-dirs --no-resave-data rawrr StartedAt: 2024-06-09 17:50:36 -0400 (Sun, 09 Jun 2024) EndedAt: 2024-06-09 17:51:28 -0400 (Sun, 09 Jun 2024) EllapsedTime: 51.8 seconds RetCode: 0 Status: OK PackageFile: rawrr_1.12.0.tar.gz PackageFileSize: 1.958 MiB