Package: rawrr Version: 1.12.0 Command: rm -rf rawrr.buildbin-libdir && mkdir rawrr.buildbin-libdir && /Users/biocbuild/BBS/utils/build-universal.sh rawrr_1.12.0.tar.gz /Library/Frameworks/R.framework/Resources/bin/R rawrr.buildbin-libdir StartedAt: 2024-06-10 00:34:11 -0400 (Mon, 10 Jun 2024) EndedAt: 2024-06-10 00:34:17 -0400 (Mon, 10 Jun 2024) EllapsedTime: 5.8 seconds RetCode: 0 Status: OK PackageFile: rawrr_1.12.0.tgz PackageFileSize: 1.988 MiB