Package: rawrr Version: 1.12.0 Command: /Library/Frameworks/R.framework/Resources/bin/R CMD INSTALL rawrr StartedAt: 2024-10-16 15:37:03 -0400 (Wed, 16 Oct 2024) EndedAt: 2024-10-16 15:37:07 -0400 (Wed, 16 Oct 2024) EllapsedTime: 3.5 seconds RetCode: 0 Status: OK