Package: rawDiag Version: 1.0.0 Command: /home/biocbuild/bbs-3.19-bioc/R/bin/R CMD check --install=check:rawDiag.install-out.txt --library=/home/biocbuild/bbs-3.19-bioc/R/site-library --timings rawDiag_1.0.0.tar.gz StartedAt: 2024-10-10 03:01:59 -0400 (Thu, 10 Oct 2024) EndedAt: 2024-10-10 03:03:18 -0400 (Thu, 10 Oct 2024) EllapsedTime: 79.2 seconds RetCode: 1 Status: ERROR CheckDir: rawDiag.Rcheck Warnings: NA