Package: rawDiag Version: 1.0.0 Command: /home/biocbuild/bbs-3.19-bioc/R/bin/R CMD build --keep-empty-dirs --no-resave-data rawDiag StartedAt: 2024-10-16 20:18:48 -0400 (Wed, 16 Oct 2024) EndedAt: 2024-10-16 20:19:08 -0400 (Wed, 16 Oct 2024) EllapsedTime: 20.0 seconds RetCode: 1 Status: ERROR PackageFile: None PackageFileSize: NA