Package: rawDiag Version: 1.0.0 Command: /Library/Frameworks/R.framework/Resources/bin/R CMD INSTALL rawDiag StartedAt: 2024-10-16 15:59:24 -0400 (Wed, 16 Oct 2024) EndedAt: 2024-10-16 15:59:37 -0400 (Wed, 16 Oct 2024) EllapsedTime: 13.5 seconds RetCode: 0 Status: OK