Package: rawDiag Version: 1.0.0 Command: /Library/Frameworks/R.framework/Resources/bin/R CMD check --install=check:rawDiag.install-out.txt --library=/Library/Frameworks/R.framework/Resources/library --no-vignettes --timings rawDiag_1.0.0.tar.gz StartedAt: 2024-10-17 11:30:22 -0400 (Thu, 17 Oct 2024) EndedAt: 2024-10-17 11:33:53 -0400 (Thu, 17 Oct 2024) EllapsedTime: 211.3 seconds RetCode: 0 Status: OK CheckDir: rawDiag.Rcheck Warnings: 0