Package: rawDiag Version: 1.0.0 Command: /Library/Frameworks/R.framework/Resources/bin/R CMD check --install=check:rawDiag.install-out.txt --library=/Library/Frameworks/R.framework/Resources/library --no-vignettes --timings rawDiag_1.0.0.tar.gz StartedAt: 2024-06-09 22:28:00 -0400 (Sun, 09 Jun 2024) EndedAt: 2024-06-09 22:30:06 -0400 (Sun, 09 Jun 2024) EllapsedTime: 125.5 seconds RetCode: 0 Status: OK CheckDir: rawDiag.Rcheck Warnings: 0