Package: randRotation Version: 1.16.0 Command: chmod a+r randRotation -R && F:\biocbuild\bbs-3.19-bioc\R\bin\R.exe CMD build --keep-empty-dirs --no-resave-data randRotation StartedAt: 2024-06-26 21:14:09 -0400 (Wed, 26 Jun 2024) EndedAt: 2024-06-26 21:16:39 -0400 (Wed, 26 Jun 2024) EllapsedTime: 149.7 seconds RetCode: 0 Status: OK PackageFile: randRotation_1.16.0.tar.gz PackageFileSize: 977.8 KiB