Package: randRotation Version: 1.16.0 Command: rm -rf randRotation.buildbin-libdir && mkdir randRotation.buildbin-libdir && F:\biocbuild\bbs-3.19-bioc\R\bin\R.exe CMD INSTALL --build --library=randRotation.buildbin-libdir randRotation_1.16.0.tar.gz StartedAt: 2024-06-27 08:44:22 -0400 (Thu, 27 Jun 2024) EndedAt: 2024-06-27 08:44:32 -0400 (Thu, 27 Jun 2024) EllapsedTime: 10.1 seconds RetCode: 0 Status: OK PackageFile: randRotation_1.16.0.zip PackageFileSize: 1.127 MiB