Package: randRotation Version: 1.16.0 Command: /home/biocbuild/bbs-3.19-bioc/R/bin/R CMD build --keep-empty-dirs --no-resave-data randRotation StartedAt: 2024-10-16 20:18:29 -0400 (Wed, 16 Oct 2024) EndedAt: 2024-10-16 20:20:16 -0400 (Wed, 16 Oct 2024) EllapsedTime: 107.2 seconds RetCode: 0 Status: OK PackageFile: randRotation_1.16.0.tar.gz PackageFileSize: 974.8 KiB