Package: randRotation Version: 1.16.0 Command: rm -rf randRotation.buildbin-libdir && mkdir randRotation.buildbin-libdir && /Users/biocbuild/BBS/utils/build-universal.sh randRotation_1.16.0.tar.gz /Library/Frameworks/R.framework/Resources/bin/R randRotation.buildbin-libdir StartedAt: 2024-10-17 16:55:47 -0400 (Thu, 17 Oct 2024) EndedAt: 2024-10-17 16:55:57 -0400 (Thu, 17 Oct 2024) EllapsedTime: 10.3 seconds RetCode: 0 Status: OK PackageFile: randRotation_1.16.0.tgz PackageFileSize: 1.116 MiB