Package: randRotation Version: 1.16.0 Command: /home/biocbuild/R/R-beta-2024-04-15_r86425/bin/R CMD build --keep-empty-dirs --no-resave-data randRotation StartedAt: 2024-05-09 02:48:20 -0000 (Thu, 09 May 2024) EndedAt: 2024-05-09 02:50:57 -0000 (Thu, 09 May 2024) EllapsedTime: 157.2 seconds RetCode: 0 Status: OK PackageFile: randRotation_1.16.0.tar.gz PackageFileSize: 961 KiB