Package: randRotation Version: 1.16.0 Command: /Library/Frameworks/R.framework/Resources/bin/R CMD build --keep-empty-dirs --no-resave-data randRotation StartedAt: 2024-10-17 07:09:05 -0400 (Thu, 17 Oct 2024) EndedAt: 2024-10-17 07:11:33 -0400 (Thu, 17 Oct 2024) EllapsedTime: 148.2 seconds RetCode: 0 Status: OK PackageFile: randRotation_1.16.0.tar.gz PackageFileSize: 973.8 KiB