Package: randPack Version: 1.50.0 Command: /home/biocbuild/bbs-3.19-bioc/R/bin/R CMD check --install=check:randPack.install-out.txt --library=/home/biocbuild/bbs-3.19-bioc/R/site-library --timings randPack_1.50.0.tar.gz StartedAt: 2024-10-17 04:07:38 -0400 (Thu, 17 Oct 2024) EndedAt: 2024-10-17 04:08:05 -0400 (Thu, 17 Oct 2024) EllapsedTime: 27.1 seconds RetCode: 0 Status: OK CheckDir: randPack.Rcheck Warnings: 0