Package: randPack Version: 1.50.0 Command: rm -rf randPack.buildbin-libdir && mkdir randPack.buildbin-libdir && /Users/biocbuild/BBS/utils/build-universal.sh randPack_1.50.0.tar.gz /Library/Frameworks/R.framework/Resources/bin/R randPack.buildbin-libdir StartedAt: 2024-10-17 16:55:46 -0400 (Thu, 17 Oct 2024) EndedAt: 2024-10-17 16:55:57 -0400 (Thu, 17 Oct 2024) EllapsedTime: 11.4 seconds RetCode: 0 Status: OK PackageFile: randPack_1.50.0.tgz PackageFileSize: 459.8 KiB